            BEGIN:VCALENDAR
VERSION:2.0
PRODID:-//NTT-GIN - ECPv6.11.0.1//NONSGML v1.0//EN
CALSCALE:GREGORIAN
METHOD:PUBLISH
X-ORIGINAL-URL:https://www.gin.ntt.net
X-WR-CALDESC:Events for NTT-GIN
REFRESH-INTERVAL;VALUE=DURATION:PT1H
X-Robots-Tag:noindex
X-PUBLISHED-TTL:PT1H
BEGIN:VTIMEZONE
TZID:America/Denver
BEGIN:DAYLIGHT
TZOFFSETFROM:-0700
TZOFFSETTO:-0600
TZNAME:MDT
DTSTART:20220313T090000
END:DAYLIGHT
BEGIN:STANDARD
TZOFFSETFROM:-0600
TZOFFSETTO:-0700
TZNAME:MST
DTSTART:20221106T080000
END:STANDARD
END:VTIMEZONE
BEGIN:VEVENT
DTSTART;VALUE=DATE:20220411
DTEND;VALUE=DATE:20220413
DTSTAMP:20260423T082316
CREATED:20220309T190754Z
LAST-MODIFIED:20220309T191410Z
UID:9600-1649635200-1649807999@www.gin.ntt.net
SUMMARY:RIPE SEE 10
DESCRIPTION:Since 2011\, the RIPE NCC has organized regional meetings throughout SEE. These events gather network engineers\, regulators\, academics\, and other technical staff to share knowledge and experiences and to identify areas for regional cooperation. For more information click here.
URL:https://www.gin.ntt.net/event/ripe-see-10/
LOCATION:Ljubljana\, Grand Hotel Union\, Ljubljana\, Ljubljana\, Slovenia
END:VEVENT
END:VCALENDAR