            BEGIN:VCALENDAR
VERSION:2.0
PRODID:-//NTT-GIN - ECPv6.11.0.1//NONSGML v1.0//EN
CALSCALE:GREGORIAN
METHOD:PUBLISH
X-WR-CALNAME:NTT-GIN
X-ORIGINAL-URL:https://www.gin.ntt.net
X-WR-CALDESC:Events for NTT-GIN
REFRESH-INTERVAL;VALUE=DURATION:PT1H
X-Robots-Tag:noindex
X-PUBLISHED-TTL:PT1H
BEGIN:VTIMEZONE
TZID:America/Denver
BEGIN:DAYLIGHT
TZOFFSETFROM:-0700
TZOFFSETTO:-0600
TZNAME:MDT
DTSTART:20250309T090000
END:DAYLIGHT
BEGIN:STANDARD
TZOFFSETFROM:-0600
TZOFFSETTO:-0700
TZNAME:MST
DTSTART:20251102T080000
END:STANDARD
END:VTIMEZONE
BEGIN:VEVENT
DTSTART;VALUE=DATE:20250423
DTEND;VALUE=DATE:20250425
DTSTAMP:20260422T034004
CREATED:20250207T024654Z
LAST-MODIFIED:20250207T024654Z
UID:11662-1745366400-1745539199@www.gin.ntt.net
SUMMARY:Connected North 2025
DESCRIPTION:Connected North will be held on April 23\, 2025\, through April 24\, 2025\, in Manchester Central\, Manchester. For more information\, please click here.
URL:https://www.gin.ntt.net/event/connected-north-2025/
LOCATION:Manchester Central\, Manchester\, Manchester\, United Kingdom
END:VEVENT
END:VCALENDAR