            BEGIN:VCALENDAR
VERSION:2.0
PRODID:-//NTT-GIN - ECPv6.11.0.1//NONSGML v1.0//EN
CALSCALE:GREGORIAN
METHOD:PUBLISH
X-ORIGINAL-URL:https://www.gin.ntt.net
X-WR-CALDESC:Events for NTT-GIN
REFRESH-INTERVAL;VALUE=DURATION:PT1H
X-Robots-Tag:noindex
X-PUBLISHED-TTL:PT1H
BEGIN:VTIMEZONE
TZID:America/Denver
BEGIN:DAYLIGHT
TZOFFSETFROM:-0700
TZOFFSETTO:-0600
TZNAME:MDT
DTSTART:20250309T090000
END:DAYLIGHT
BEGIN:STANDARD
TZOFFSETFROM:-0600
TZOFFSETTO:-0700
TZNAME:MST
DTSTART:20251102T080000
END:STANDARD
END:VTIMEZONE
BEGIN:VTIMEZONE
TZID:America/Sao_Paulo
BEGIN:STANDARD
TZOFFSETFROM:-0200
TZOFFSETTO:-0300
TZNAME:BRT
DTSTART:20250216T020000
END:STANDARD
BEGIN:DAYLIGHT
TZOFFSETFROM:-0300
TZOFFSETTO:-0200
TZNAME:BRST
DTSTART:20251019T030000
END:DAYLIGHT
END:VTIMEZONE
BEGIN:VEVENT
DTSTART;VALUE=DATE:20250311
DTEND;VALUE=DATE:20250313
DTSTAMP:20260422T051215
CREATED:20250310T215643Z
LAST-MODIFIED:20250310T215643Z
UID:11744-1741651200-1741823999@www.gin.ntt.net
SUMMARY:Connected America 2025
DESCRIPTION:Connect America 2025 will be held March 11 – 12\, 2025\, in Irving\, Texas. For more information\, please click here.
URL:https://www.gin.ntt.net/event/connected-america-2025/
LOCATION:Irving\, TX\, Irving\, TX\, United States
END:VEVENT
BEGIN:VEVENT
DTSTART;VALUE=DATE:20250318
DTEND;VALUE=DATE:20250320
DTSTAMP:20260422T051215
CREATED:20241125T154804Z
LAST-MODIFIED:20241206T003554Z
UID:11470-1742256000-1742428799@www.gin.ntt.net
SUMMARY:Capacity LATAM 2025
DESCRIPTION:NTT DATA and the Global IP Network division are attending Capacity LATAM 2025. Please contact us to schedule a meeting\, by email at GIN@ntt.net or by using the online event system.
URL:https://www.gin.ntt.net/event/capacity-latam-2025/
LOCATION:São Paulo\, Brazil\, São Paulo\, Brazil
END:VEVENT
BEGIN:VEVENT
DTSTART;VALUE=DATE:20250318
DTEND;VALUE=DATE:20250320
DTSTAMP:20260422T051215
CREATED:20250207T023910Z
LAST-MODIFIED:20250207T023910Z
UID:11659-1742256000-1742428799@www.gin.ntt.net
SUMMARY:Netnod 2025
DESCRIPTION:Netnod will take place on 18th – 19th of March at the  Fotografiska museum in Stockholm\, Sweden. For more information\, click here.
URL:https://www.gin.ntt.net/event/netnod-2025/
LOCATION:Stockholm\, Sweden\, Stockholm\, Sweden
END:VEVENT
END:VCALENDAR