            BEGIN:VCALENDAR
VERSION:2.0
PRODID:-//NTT-GIN - ECPv6.11.0.1//NONSGML v1.0//EN
CALSCALE:GREGORIAN
METHOD:PUBLISH
X-ORIGINAL-URL:https://www.gin.ntt.net
X-WR-CALDESC:Events for NTT-GIN
REFRESH-INTERVAL;VALUE=DURATION:PT1H
X-Robots-Tag:noindex
X-PUBLISHED-TTL:PT1H
BEGIN:VTIMEZONE
TZID:Asia/Krasnoyarsk
BEGIN:STANDARD
TZOFFSETFROM:+0700
TZOFFSETTO:+0700
TZNAME:KRAT
DTSTART:20240101T000000
END:STANDARD
END:VTIMEZONE
BEGIN:VTIMEZONE
TZID:America/Sao_Paulo
BEGIN:STANDARD
TZOFFSETFROM:-0200
TZOFFSETTO:-0300
TZNAME:BRT
DTSTART:20240218T020000
END:STANDARD
BEGIN:DAYLIGHT
TZOFFSETFROM:-0300
TZOFFSETTO:-0200
TZNAME:BRST
DTSTART:20241020T030000
END:DAYLIGHT
END:VTIMEZONE
BEGIN:VTIMEZONE
TZID:Europe/Paris
BEGIN:DAYLIGHT
TZOFFSETFROM:+0100
TZOFFSETTO:+0200
TZNAME:CEST
DTSTART:20240331T010000
END:DAYLIGHT
BEGIN:STANDARD
TZOFFSETFROM:+0200
TZOFFSETTO:+0100
TZNAME:CET
DTSTART:20241027T010000
END:STANDARD
END:VTIMEZONE
BEGIN:VEVENT
DTSTART;VALUE=DATE:20240221
DTEND;VALUE=DATE:20240302
DTSTAMP:20260423T010813
CREATED:20240117T163550Z
LAST-MODIFIED:20240117T163802Z
UID:10676-1708473600-1709337599@www.gin.ntt.net
SUMMARY:APRICOT / APNIC 57
DESCRIPTION:Asia Pacific Regional Internet Conference on Operational Technologies (APRICOT) is an event for many of the world’s best Internet engineers\, operators\, researchers\, service providers\, users and policy communities from over 50 countries. At this event\, there is teaching\, presenting\, and networking. The 9-day summit consists of seminars\, workshops\, tutorials\, conference sessions\, birds-of-a-feather (BOFs)\, and other forums with the goal of spreading and sharing the knowledge required to operate the Internet within the Asia Pacific region. Click here for more information.
URL:https://www.gin.ntt.net/event/apricot-apnic-57/
LOCATION:Bangkok\, Thailand\, Bangkok\, Thailand
END:VEVENT
BEGIN:VEVENT
DTSTART;VALUE=DATE:20240312
DTEND;VALUE=DATE:20240314
DTSTAMP:20260423T010813
CREATED:20231219T000016Z
LAST-MODIFIED:20231219T000050Z
UID:10603-1710201600-1710374399@www.gin.ntt.net
SUMMARY:Capacity LATAM 2024
DESCRIPTION:NTT DATA and the Global IP Network division are attending Capacity LATAM 2024. Please contact us to schedule a meeting\, either by email at GIN@ntt.net or by using the online event system.
URL:https://www.gin.ntt.net/event/capacity-latam-2024/
LOCATION:São Paulo\, Brazil\, São Paulo\, Brazil
END:VEVENT
BEGIN:VEVENT
DTSTART;VALUE=DATE:20240314
DTEND;VALUE=DATE:20240316
DTSTAMP:20260423T010813
CREATED:20231219T000621Z
LAST-MODIFIED:20231219T000702Z
UID:10614-1710374400-1710547199@www.gin.ntt.net
SUMMARY:NetNod 2024
DESCRIPTION:Netnod will take place on 14th – 15th of March at the Clarion Sign hotel in Stockholm\, Sweden. For more information\, click here.
URL:https://www.gin.ntt.net/event/netnod-2024/
LOCATION:Stockholm\, Sweden\, Stockholm\, Sweden
END:VEVENT
END:VCALENDAR