            BEGIN:VCALENDAR
VERSION:2.0
PRODID:-//NTT-GIN - ECPv6.11.0.1//NONSGML v1.0//EN
CALSCALE:GREGORIAN
METHOD:PUBLISH
X-ORIGINAL-URL:https://www.gin.ntt.net
X-WR-CALDESC:Events for NTT-GIN
REFRESH-INTERVAL;VALUE=DURATION:PT1H
X-Robots-Tag:noindex
X-PUBLISHED-TTL:PT1H
BEGIN:VTIMEZONE
TZID:Pacific/Honolulu
BEGIN:STANDARD
TZOFFSETFROM:-1000
TZOFFSETTO:-1000
TZNAME:HST
DTSTART:20240101T000000
END:STANDARD
END:VTIMEZONE
BEGIN:VEVENT
DTSTART;VALUE=DATE:20240121
DTEND;VALUE=DATE:20240125
DTSTAMP:20260423T045349
CREATED:20230623T040939Z
LAST-MODIFIED:20230817T020557Z
UID:10161-1705795200-1706140799@www.gin.ntt.net
SUMMARY:PTC'24
DESCRIPTION:The Pacific Telecommunications Council will be held in Honolulu\, Hawaii. For more information please click here.
URL:https://www.gin.ntt.net/event/ptc24/
LOCATION:Honolulu\, Honolulu\, HI\, United States
END:VEVENT
END:VCALENDAR