            BEGIN:VCALENDAR
VERSION:2.0
PRODID:-//NTT-GIN - ECPv6.11.0.1//NONSGML v1.0//EN
CALSCALE:GREGORIAN
METHOD:PUBLISH
X-WR-CALNAME:NTT-GIN
X-ORIGINAL-URL:https://www.gin.ntt.net
X-WR-CALDESC:Events for NTT-GIN
REFRESH-INTERVAL;VALUE=DURATION:PT1H
X-Robots-Tag:noindex
X-PUBLISHED-TTL:PT1H
BEGIN:VTIMEZONE
TZID:America/Denver
BEGIN:DAYLIGHT
TZOFFSETFROM:-0700
TZOFFSETTO:-0600
TZNAME:MDT
DTSTART:20230312T090000
END:DAYLIGHT
BEGIN:STANDARD
TZOFFSETFROM:-0600
TZOFFSETTO:-0700
TZNAME:MST
DTSTART:20231105T080000
END:STANDARD
END:VTIMEZONE
BEGIN:VEVENT
DTSTART;VALUE=DATE:20230612
DTEND;VALUE=DATE:20230615
DTSTAMP:20260423T163205
CREATED:20230118T193732Z
LAST-MODIFIED:20230118T193732Z
UID:9970-1686528000-1686787199@www.gin.ntt.net
SUMMARY:NANOG 88
DESCRIPTION:NANOG 88 will be held in Seattle\, Washington. For more information please click here.
URL:https://www.gin.ntt.net/event/nanog-88/
LOCATION:Seattle\, Seattle\, WA\, 98101\, United States
END:VEVENT
END:VCALENDAR