            BEGIN:VCALENDAR
VERSION:2.0
PRODID:-//NTT-GIN - ECPv6.11.0.1//NONSGML v1.0//EN
CALSCALE:GREGORIAN
METHOD:PUBLISH
X-WR-CALNAME:NTT-GIN
X-ORIGINAL-URL:https://www.gin.ntt.net
X-WR-CALDESC:Events for NTT-GIN
REFRESH-INTERVAL;VALUE=DURATION:PT1H
X-Robots-Tag:noindex
X-PUBLISHED-TTL:PT1H
BEGIN:VTIMEZONE
TZID:America/Denver
BEGIN:DAYLIGHT
TZOFFSETFROM:-0700
TZOFFSETTO:-0600
TZNAME:MDT
DTSTART:20220313T090000
END:DAYLIGHT
BEGIN:STANDARD
TZOFFSETFROM:-0600
TZOFFSETTO:-0700
TZNAME:MST
DTSTART:20221106T080000
END:STANDARD
END:VTIMEZONE
BEGIN:VEVENT
DTSTART;VALUE=DATE:20220223
DTEND;VALUE=DATE:20220304
DTSTAMP:20260424T154909
CREATED:20220114T231006Z
LAST-MODIFIED:20220114T231108Z
UID:9507-1645574400-1646351999@www.gin.ntt.net
SUMMARY:APRICOT / APNIC 53
DESCRIPTION:Asia Pacific Regional Internet Conference on Operational Technologies (APRICOT) is an event for many of the world’s best Internet engineers\, operators\, researchers\, service providers\, users and policy communities from over 50 countries. At this event\, there is teaching\, presenting\, and networking. The 9-day summit consists of seminars\, workshops\, tutorials\, conference sessions\, birds-of-a-feather (BOFs)\, and other forums with the goal of spreading and sharing the knowledge required to operate the Internet within the Asia Pacific region. Click here for more information.
URL:https://www.gin.ntt.net/event/apricot-apnic-53/
END:VEVENT
BEGIN:VEVENT
DTSTART;VALUE=DATE:20220314
DTEND;VALUE=DATE:20220317
DTSTAMP:20260424T154909
CREATED:20220114T231629Z
LAST-MODIFIED:20220302T200641Z
UID:9510-1647216000-1647475199@www.gin.ntt.net
SUMMARY:Capacity LATAM
DESCRIPTION:Capacity LATAM is the largest meeting for the digital infrastructure industry. Alongside meetings\, the conference provides a strategic overview of market developments with C-level executives leading live discussions on regional digitisation developments\, fibre roll-out projects\, data centre and edge expansion plans\, M&A\, cloud\, content and wider connectivity demands. For more information click here. \nMichael Wheeler will be part of the Keynote panel discussion about Enhancing Connectivity Across Latin America on March 15th\, click here to see the agenda for Capacity LATAM 2022.
URL:https://www.gin.ntt.net/event/capacity-latam/
LOCATION:Four Seasons Miami\, 1435 Brickell Ave\, Miami\, FL\, 33131\, United States
END:VEVENT
BEGIN:VEVENT
DTSTART;VALUE=DATE:20220328
DTEND;VALUE=DATE:20220401
DTSTAMP:20260424T154909
CREATED:20220114T232301Z
LAST-MODIFIED:20220328T191156Z
UID:9513-1648425600-1648771199@www.gin.ntt.net
SUMMARY:Capacity Middle East 2022
DESCRIPTION:Capacity Middle East is the largest carrier meeting for the Middle Eastern region\, uniting the region’s key ICT players representing the carrier\, cloud\, hyperscaler\, content\, digital infrastructure\, edge\, software\, data center and technology industries. Click here for more information.
URL:https://www.gin.ntt.net/event/capacity-middle-east-2022-digital-infra-africa/
LOCATION:Grand Hyatt Dubai\, Riyadh Street\, Sheikh Rashid Road\, Dubai\, United Arab Emirates
END:VEVENT
END:VCALENDAR