            BEGIN:VCALENDAR
VERSION:2.0
PRODID:-//NTT-GIN - ECPv6.11.0.1//NONSGML v1.0//EN
CALSCALE:GREGORIAN
METHOD:PUBLISH
X-ORIGINAL-URL:https://www.gin.ntt.net
X-WR-CALDESC:Events for NTT-GIN
REFRESH-INTERVAL;VALUE=DURATION:PT1H
X-Robots-Tag:noindex
X-PUBLISHED-TTL:PT1H
BEGIN:VTIMEZONE
TZID:America/Denver
BEGIN:DAYLIGHT
TZOFFSETFROM:-0700
TZOFFSETTO:-0600
TZNAME:MDT
DTSTART:20210314T090000
END:DAYLIGHT
BEGIN:STANDARD
TZOFFSETFROM:-0600
TZOFFSETTO:-0700
TZNAME:MST
DTSTART:20211107T080000
END:STANDARD
END:VTIMEZONE
BEGIN:VEVENT
DTSTART;TZID=America/Denver:20210729T150000
DTEND;TZID=America/Denver:20210729T160000
DTSTAMP:20260425T065631
CREATED:20210714T084648Z
LAST-MODIFIED:20210714T084648Z
UID:9112-1627570800-1627574400@www.gin.ntt.net
SUMMARY:Webinar: How to keep your network safe from DDoS attacks
DESCRIPTION:Are you ready to respond to a DDoS attack? Do you have a defence plan in place? \nThis webinar will discuss the latest trends in DDoS attacks\, who the potential targets are and the effects on assets and organizations. Most importantly\, this session will provide you with invaluable information to help you get ready for and deal with a DDoS attack. \nRegister here for the webinar.
URL:https://www.gin.ntt.net/event/webinar-how-to-keep-your-network-safe-from-ddos-attacks/
END:VEVENT
BEGIN:VEVENT
DTSTART;VALUE=DATE:20210730
DTEND;VALUE=DATE:20210731
DTSTAMP:20260425T065631
CREATED:20210514T211057Z
LAST-MODIFIED:20210621T232957Z
UID:9056-1627603200-1627689599@www.gin.ntt.net
SUMMARY:SGNOG 8
DESCRIPTION:SGNOG 8 will be held as a virtual event. For more information please click here.
URL:https://www.gin.ntt.net/event/sgnog-8/
LOCATION:Virtual\, Virtual event
END:VEVENT
END:VCALENDAR