            BEGIN:VCALENDAR
VERSION:2.0
PRODID:-//NTT-GIN - ECPv6.11.0.1//NONSGML v1.0//EN
CALSCALE:GREGORIAN
METHOD:PUBLISH
X-ORIGINAL-URL:https://www.gin.ntt.net
X-WR-CALDESC:Events for NTT-GIN
REFRESH-INTERVAL;VALUE=DURATION:PT1H
X-Robots-Tag:noindex
X-PUBLISHED-TTL:PT1H
BEGIN:VTIMEZONE
TZID:Asia/Shanghai
BEGIN:STANDARD
TZOFFSETFROM:+0800
TZOFFSETTO:+0800
TZNAME:CST
DTSTART:20260101T000000
END:STANDARD
END:VTIMEZONE
BEGIN:VEVENT
DTSTART;VALUE=DATE:20260511
DTEND;VALUE=DATE:20260516
DTSTAMP:20260421T111103
CREATED:20260219T175240Z
LAST-MODIFIED:20260219T175728Z
UID:12559-1778457600-1778889599@www.gin.ntt.net
SUMMARY:TWNOG 7 / TWNIC 2026
DESCRIPTION:TWNOG 7 hosted by the Taiwan Network Operators Group will begin May 11\, 2026. The 7th Taiwan Network Operations Forum will be held on May 15\, 2026\, at the International Conference Center of National Taiwan University Hospital. Please click here for more information.
URL:https://www.gin.ntt.net/event/twnog-7-twnic-2026/
LOCATION:Taipei\, Taiwan
END:VEVENT
END:VCALENDAR