            BEGIN:VCALENDAR
VERSION:2.0
PRODID:-//NTT-GIN - ECPv6.11.0.1//NONSGML v1.0//EN
CALSCALE:GREGORIAN
METHOD:PUBLISH
X-ORIGINAL-URL:https://www.gin.ntt.net
X-WR-CALDESC:Events for NTT-GIN
REFRESH-INTERVAL;VALUE=DURATION:PT1H
X-Robots-Tag:noindex
X-PUBLISHED-TTL:PT1H
BEGIN:VTIMEZONE
TZID:America/Chicago
BEGIN:DAYLIGHT
TZOFFSETFROM:-0600
TZOFFSETTO:-0500
TZNAME:CDT
DTSTART:20250309T080000
END:DAYLIGHT
BEGIN:STANDARD
TZOFFSETFROM:-0500
TZOFFSETTO:-0600
TZNAME:CST
DTSTART:20251102T070000
END:STANDARD
END:VTIMEZONE
BEGIN:VTIMEZONE
TZID:Asia/Shanghai
BEGIN:STANDARD
TZOFFSETFROM:+0800
TZOFFSETTO:+0800
TZNAME:CST
DTSTART:20250101T000000
END:STANDARD
END:VTIMEZONE
BEGIN:VEVENT
DTSTART;VALUE=DATE:20250611
DTEND;VALUE=DATE:20250614
DTSTAMP:20260422T015549
CREATED:20250608T043723Z
LAST-MODIFIED:20250608T043723Z
UID:11946-1749600000-1749859199@www.gin.ntt.net
SUMMARY:StreamTV Show
DESCRIPTION:StreamTV Show will be held in Denver\, Colorado. For more information\, please click here.
URL:https://www.gin.ntt.net/event/streamtv-show/
LOCATION:Denver\, CO\, Denver\, CO\, United States
END:VEVENT
BEGIN:VEVENT
DTSTART;VALUE=DATE:20250612
DTEND;VALUE=DATE:20250613
DTSTAMP:20260422T015549
CREATED:20240410T012750Z
LAST-MODIFIED:20250222T002000Z
UID:10717-1749686400-1749772799@www.gin.ntt.net
SUMMARY:MyNOG 12
DESCRIPTION:MyNOG 12 will be held in Kuala Lumpur\, Malaysia. For more information please click here.
URL:https://www.gin.ntt.net/event/mynog-11/
LOCATION:Kuala Lumpur\, Malaysia\, Kuala Lumpur\, Malaysia
END:VEVENT
END:VCALENDAR