            BEGIN:VCALENDAR
VERSION:2.0
PRODID:-//NTT-GIN - ECPv6.11.0.1//NONSGML v1.0//EN
CALSCALE:GREGORIAN
METHOD:PUBLISH
X-WR-CALNAME:NTT-GIN
X-ORIGINAL-URL:https://www.gin.ntt.net
X-WR-CALDESC:Events for NTT-GIN
REFRESH-INTERVAL;VALUE=DURATION:PT1H
X-Robots-Tag:noindex
X-PUBLISHED-TTL:PT1H
BEGIN:VTIMEZONE
TZID:Atlantic/Azores
BEGIN:DAYLIGHT
TZOFFSETFROM:-0100
TZOFFSETTO:+0000
TZNAME:AZOST
DTSTART:20240331T010000
END:DAYLIGHT
BEGIN:STANDARD
TZOFFSETFROM:+0000
TZOFFSETTO:-0100
TZNAME:AZOT
DTSTART:20241027T010000
END:STANDARD
END:VTIMEZONE
BEGIN:VTIMEZONE
TZID:Asia/Krasnoyarsk
BEGIN:STANDARD
TZOFFSETFROM:+0700
TZOFFSETTO:+0700
TZNAME:KRAT
DTSTART:20240101T000000
END:STANDARD
END:VTIMEZONE
BEGIN:VEVENT
DTSTART;VALUE=DATE:20241118
DTEND;VALUE=DATE:20241120
DTSTAMP:20260422T132350
CREATED:20241108T025859Z
LAST-MODIFIED:20241108T025859Z
UID:11444-1731888000-1732060799@www.gin.ntt.net
SUMMARY:DENOG 16
DESCRIPTION:DENOG 16 will be held in Berlin\, Germany. For more information please click here.
URL:https://www.gin.ntt.net/event/denog-16/
LOCATION:Berlin\, Germany\, Berlin\, Germany
END:VEVENT
BEGIN:VEVENT
DTSTART;VALUE=DATE:20241119
DTEND;VALUE=DATE:20241121
DTSTAMP:20260422T132350
CREATED:20240820T235817Z
LAST-MODIFIED:20240820T235817Z
UID:11176-1731974400-1732147199@www.gin.ntt.net
SUMMARY:Telecoms World Asia 2024
DESCRIPTION:Telecoms World Asia 2024 will be held on November 19\, 2024\, through November 20\, 2024\, at the Centara Grand & Bangkok Convention Centre CentralWorld\, Bangkok. For more information\, please click here.
URL:https://www.gin.ntt.net/event/telecoms-world-asia-2024/
LOCATION:Bangkok\, Thailand\, Bangkok\, Thailand
END:VEVENT
END:VCALENDAR