            BEGIN:VCALENDAR
VERSION:2.0
PRODID:-//NTT-GIN - ECPv6.11.0.1//NONSGML v1.0//EN
CALSCALE:GREGORIAN
METHOD:PUBLISH
X-WR-CALNAME:NTT-GIN
X-ORIGINAL-URL:https://www.gin.ntt.net
X-WR-CALDESC:Events for NTT-GIN
REFRESH-INTERVAL;VALUE=DURATION:PT1H
X-Robots-Tag:noindex
X-PUBLISHED-TTL:PT1H
BEGIN:VTIMEZONE
TZID:Asia/Krasnoyarsk
BEGIN:STANDARD
TZOFFSETFROM:+0700
TZOFFSETTO:+0700
TZNAME:KRAT
DTSTART:20240101T000000
END:STANDARD
END:VTIMEZONE
BEGIN:VTIMEZONE
TZID:America/Denver
BEGIN:DAYLIGHT
TZOFFSETFROM:-0700
TZOFFSETTO:-0600
TZNAME:MDT
DTSTART:20240310T090000
END:DAYLIGHT
BEGIN:STANDARD
TZOFFSETFROM:-0600
TZOFFSETTO:-0700
TZNAME:MST
DTSTART:20241103T080000
END:STANDARD
END:VTIMEZONE
BEGIN:VEVENT
DTSTART;VALUE=DATE:20241020
DTEND;VALUE=DATE:20241021
DTSTAMP:20260422T150128
CREATED:20240920T000635Z
LAST-MODIFIED:20240920T000635Z
UID:11272-1729382400-1729468799@www.gin.ntt.net
SUMMARY:KHNOG 6
DESCRIPTION:KHNOG 6 will be held in Phnom Penh\, Cambodia. For more information\, please click here.
URL:https://www.gin.ntt.net/event/khnog-6/
LOCATION:Phnom Penh\, Cambodia\, Phnom Penh\, Cambodia
END:VEVENT
BEGIN:VEVENT
DTSTART;VALUE=DATE:20241020
DTEND;VALUE=DATE:20241023
DTSTAMP:20260422T150128
CREATED:20240920T001658Z
LAST-MODIFIED:20240920T001658Z
UID:11282-1729382400-1729641599@www.gin.ntt.net
SUMMARY:Incompass Show
DESCRIPTION:The 2024 INCOMPASS Show will be held in Denver\, Colorado on October 20 – 22\, 2024. For more information\, please click here.
URL:https://www.gin.ntt.net/event/incompass-show/
LOCATION:Denver\, CO\, Denver\, CO\, United States
END:VEVENT
END:VCALENDAR