            BEGIN:VCALENDAR
VERSION:2.0
PRODID:-//NTT-GIN - ECPv6.11.0.1//NONSGML v1.0//EN
CALSCALE:GREGORIAN
METHOD:PUBLISH
X-ORIGINAL-URL:https://www.gin.ntt.net
X-WR-CALDESC:Events for NTT-GIN
REFRESH-INTERVAL;VALUE=DURATION:PT1H
X-Robots-Tag:noindex
X-PUBLISHED-TTL:PT1H
BEGIN:VTIMEZONE
TZID:Asia/Shanghai
BEGIN:STANDARD
TZOFFSETFROM:+0800
TZOFFSETTO:+0800
TZNAME:CST
DTSTART:20240101T000000
END:STANDARD
END:VTIMEZONE
BEGIN:VEVENT
DTSTART;VALUE=DATE:20240927
DTEND;VALUE=DATE:20240928
DTSTAMP:20260422T163816
CREATED:20240920T000157Z
LAST-MODIFIED:20240920T000157Z
UID:11268-1727395200-1727481599@www.gin.ntt.net
SUMMARY:SGNOG 11
DESCRIPTION:SGNOG 11 will be held in Singapore on September 27\, 2024. For more information\, please click here.
URL:https://www.gin.ntt.net/event/sgnog-11/
LOCATION:Singapore\, Singapore
END:VEVENT
END:VCALENDAR