            BEGIN:VCALENDAR
VERSION:2.0
PRODID:-//NTT-GIN - ECPv6.11.0.1//NONSGML v1.0//EN
CALSCALE:GREGORIAN
METHOD:PUBLISH
X-ORIGINAL-URL:https://www.gin.ntt.net
X-WR-CALDESC:Events for NTT-GIN
REFRESH-INTERVAL;VALUE=DURATION:PT1H
X-Robots-Tag:noindex
X-PUBLISHED-TTL:PT1H
BEGIN:VTIMEZONE
TZID:Asia/Shanghai
BEGIN:STANDARD
TZOFFSETFROM:+0800
TZOFFSETTO:+0800
TZNAME:CST
DTSTART:20240101T000000
END:STANDARD
END:VTIMEZONE
BEGIN:VEVENT
DTSTART;VALUE=DATE:20240917
DTEND;VALUE=DATE:20240919
DTSTAMP:20260422T163817
CREATED:20240911T003719Z
LAST-MODIFIED:20240911T130604Z
UID:11232-1726531200-1726703999@www.gin.ntt.net
SUMMARY:FutureNet Asia 2024
DESCRIPTION:FutureNet Asia will be held on September 17\, 2024\, through September 18\, 2024\, at the Marina Bay Sands\, Singapore. For more information\, please click here.
URL:https://www.gin.ntt.net/event/futurenet-asia-2024/
LOCATION:Singapore\, Singapore
END:VEVENT
END:VCALENDAR