            BEGIN:VCALENDAR
VERSION:2.0
PRODID:-//NTT-GIN - ECPv6.11.0.1//NONSGML v1.0//EN
CALSCALE:GREGORIAN
METHOD:PUBLISH
X-WR-CALNAME:NTT-GIN
X-ORIGINAL-URL:https://www.gin.ntt.net
X-WR-CALDESC:Events for NTT-GIN
REFRESH-INTERVAL;VALUE=DURATION:PT1H
X-Robots-Tag:noindex
X-PUBLISHED-TTL:PT1H
BEGIN:VTIMEZONE
TZID:America/Chicago
BEGIN:DAYLIGHT
TZOFFSETFROM:-0600
TZOFFSETTO:-0500
TZNAME:CDT
DTSTART:20240310T080000
END:DAYLIGHT
BEGIN:STANDARD
TZOFFSETFROM:-0500
TZOFFSETTO:-0600
TZNAME:CST
DTSTART:20241103T070000
END:STANDARD
END:VTIMEZONE
BEGIN:VTIMEZONE
TZID:Europe/Paris
BEGIN:DAYLIGHT
TZOFFSETFROM:+0100
TZOFFSETTO:+0200
TZNAME:CEST
DTSTART:20240331T010000
END:DAYLIGHT
BEGIN:STANDARD
TZOFFSETFROM:+0200
TZOFFSETTO:+0100
TZNAME:CET
DTSTART:20241027T010000
END:STANDARD
END:VTIMEZONE
BEGIN:VEVENT
DTSTART;VALUE=DATE:20240911
DTEND;VALUE=DATE:20240913
DTSTAMP:20260422T163637
CREATED:20240911T130502Z
LAST-MODIFIED:20240911T130502Z
UID:11237-1726012800-1726185599@www.gin.ntt.net
SUMMARY:Mexico Connect 2024
DESCRIPTION:Mexico Connect 2024 will be held on September 11\, 2024\, through September 12\, 2024\, at the St. Regis\, Mexico City. For more information\, please click here.
URL:https://www.gin.ntt.net/event/mexico-connect-2024/
LOCATION:Mexico City\, Mexico\, Mexico City\, Mexico
END:VEVENT
BEGIN:VEVENT
DTSTART;VALUE=DATE:20240911
DTEND;VALUE=DATE:20240913
DTSTAMP:20260422T163637
CREATED:20240911T002233Z
LAST-MODIFIED:20240911T130534Z
UID:11228-1726012800-1726185599@www.gin.ntt.net
SUMMARY:Connected Britain
DESCRIPTION:Connected Britain will be held on September 11\, 2024\, through September 12\, 2024\, at the ExCel London – Hall S9\, London. For more information\, please click here.
URL:https://www.gin.ntt.net/event/connected-britain/
LOCATION:London\, UK\, London\, United Kingdom
END:VEVENT
END:VCALENDAR