            BEGIN:VCALENDAR
VERSION:2.0
PRODID:-//NTT-GIN - ECPv6.11.0.1//NONSGML v1.0//EN
CALSCALE:GREGORIAN
METHOD:PUBLISH
X-ORIGINAL-URL:https://www.gin.ntt.net
X-WR-CALDESC:Events for NTT-GIN
REFRESH-INTERVAL;VALUE=DURATION:PT1H
X-Robots-Tag:noindex
X-PUBLISHED-TTL:PT1H
BEGIN:VTIMEZONE
TZID:America/New_York
BEGIN:DAYLIGHT
TZOFFSETFROM:-0500
TZOFFSETTO:-0400
TZNAME:EDT
DTSTART:20240310T070000
END:DAYLIGHT
BEGIN:STANDARD
TZOFFSETFROM:-0400
TZOFFSETTO:-0500
TZNAME:EST
DTSTART:20241103T060000
END:STANDARD
END:VTIMEZONE
BEGIN:VEVENT
DTSTART;VALUE=DATE:20240610
DTEND;VALUE=DATE:20240613
DTSTAMP:20260422T213713
CREATED:20240410T013355Z
LAST-MODIFIED:20240410T014046Z
UID:10720-1717977600-1718236799@www.gin.ntt.net
SUMMARY:NANOG 91
DESCRIPTION:NANOG 91 will be held in Kansas City\, Missouri. For more information please click here.
URL:https://www.gin.ntt.net/event/nanog-91/
LOCATION:Kansas City\, Missouri\, Kansas City\, MO\, United States
END:VEVENT
END:VCALENDAR