            BEGIN:VCALENDAR
VERSION:2.0
PRODID:-//NTT-GIN - ECPv6.11.0.1//NONSGML v1.0//EN
CALSCALE:GREGORIAN
METHOD:PUBLISH
X-WR-CALNAME:NTT-GIN
X-ORIGINAL-URL:https://www.gin.ntt.net
X-WR-CALDESC:Events for NTT-GIN
REFRESH-INTERVAL;VALUE=DURATION:PT1H
X-Robots-Tag:noindex
X-PUBLISHED-TTL:PT1H
BEGIN:VTIMEZONE
TZID:Europe/Paris
BEGIN:DAYLIGHT
TZOFFSETFROM:+0100
TZOFFSETTO:+0200
TZNAME:CEST
DTSTART:20240331T010000
END:DAYLIGHT
BEGIN:STANDARD
TZOFFSETFROM:+0200
TZOFFSETTO:+0100
TZNAME:CET
DTSTART:20241027T010000
END:STANDARD
END:VTIMEZONE
BEGIN:VEVENT
DTSTART;VALUE=DATE:20240520
DTEND;VALUE=DATE:20240525
DTSTAMP:20260422T232118
CREATED:20231219T003622Z
LAST-MODIFIED:20231219T003622Z
UID:10630-1716163200-1716595199@www.gin.ntt.net
SUMMARY:RIPE 88
DESCRIPTION:RIPE is an event that showcases: \n – Participation in discussions about the policies and procedures used by the RIPE NCC to allocate Internet number resources\n– Group sessions to discuss current technical and policy issues\n– A chance to share experiences\, latest developments and best common practices\n– Develop their network of peers in the Internet community \nRIPE 88 will be held from May 20 – May 24\, 2024 in Krakow\, Poland.\nClick here for more information.
URL:https://www.gin.ntt.net/event/ripe-88/
LOCATION:Krakow\, Poland\, Krakow\, Poland
END:VEVENT
END:VCALENDAR