            BEGIN:VCALENDAR
VERSION:2.0
PRODID:-//NTT-GIN - ECPv6.11.0.1//NONSGML v1.0//EN
CALSCALE:GREGORIAN
METHOD:PUBLISH
X-WR-CALNAME:NTT-GIN
X-ORIGINAL-URL:https://www.gin.ntt.net
X-WR-CALDESC:Events for NTT-GIN
REFRESH-INTERVAL;VALUE=DURATION:PT1H
X-Robots-Tag:noindex
X-PUBLISHED-TTL:PT1H
BEGIN:VTIMEZONE
TZID:America/New_York
BEGIN:DAYLIGHT
TZOFFSETFROM:-0500
TZOFFSETTO:-0400
TZNAME:EDT
DTSTART:20240310T070000
END:DAYLIGHT
BEGIN:STANDARD
TZOFFSETFROM:-0400
TZOFFSETTO:-0500
TZNAME:EST
DTSTART:20241103T060000
END:STANDARD
END:VTIMEZONE
BEGIN:VEVENT
DTSTART;VALUE=DATE:20240514
DTEND;VALUE=DATE:20240518
DTSTAMP:20260422T232114
CREATED:20231219T001701Z
LAST-MODIFIED:20231219T002844Z
UID:10623-1715644800-1715990399@www.gin.ntt.net
SUMMARY:ITW 2024
DESCRIPTION:International Telecoms Week (ITW) is the world’s largest gathering from across the telecoms and ICT Infrastructure ecosystem and is the must-attend event for anyone who is pioneering the future of communication. This is the only event in the world where you can meet with the international connectivity market all in one place. Click here for more information.
URL:https://www.gin.ntt.net/event/itw-2024/
LOCATION:Washington\, DC\, Washington DC\, DC\, United States
END:VEVENT
END:VCALENDAR