            BEGIN:VCALENDAR
VERSION:2.0
PRODID:-//NTT-GIN - ECPv6.11.0.1//NONSGML v1.0//EN
CALSCALE:GREGORIAN
METHOD:PUBLISH
X-WR-CALNAME:NTT-GIN
X-ORIGINAL-URL:https://www.gin.ntt.net
X-WR-CALDESC:Events for NTT-GIN
REFRESH-INTERVAL;VALUE=DURATION:PT1H
X-Robots-Tag:noindex
X-PUBLISHED-TTL:PT1H
BEGIN:VTIMEZONE
TZID:America/New_York
BEGIN:DAYLIGHT
TZOFFSETFROM:-0500
TZOFFSETTO:-0400
TZNAME:EDT
DTSTART:20240310T070000
END:DAYLIGHT
BEGIN:STANDARD
TZOFFSETFROM:-0400
TZOFFSETTO:-0500
TZNAME:EST
DTSTART:20241103T060000
END:STANDARD
END:VTIMEZONE
BEGIN:VEVENT
DTSTART;VALUE=DATE:20240212
DTEND;VALUE=DATE:20240215
DTSTAMP:20260423T043819
CREATED:20231219T002350Z
LAST-MODIFIED:20240112T234651Z
UID:10625-1707696000-1707955199@www.gin.ntt.net
SUMMARY:NANOG 90
DESCRIPTION:NANOG 90 will be held in Charlotte\, North Carolina. For more information please click here.
URL:https://www.gin.ntt.net/event/nanog-90/
LOCATION:Charlotte\, North Carolina\, Charlotte\, NC\, United States
END:VEVENT
END:VCALENDAR