            BEGIN:VCALENDAR
VERSION:2.0
PRODID:-//NTT-GIN - ECPv6.11.0.1//NONSGML v1.0//EN
CALSCALE:GREGORIAN
METHOD:PUBLISH
X-ORIGINAL-URL:https://www.gin.ntt.net
X-WR-CALDESC:Events for NTT-GIN
REFRESH-INTERVAL;VALUE=DURATION:PT1H
X-Robots-Tag:noindex
X-PUBLISHED-TTL:PT1H
BEGIN:VTIMEZONE
TZID:Europe/Helsinki
BEGIN:DAYLIGHT
TZOFFSETFROM:+0200
TZOFFSETTO:+0300
TZNAME:EEST
DTSTART:20230326T010000
END:DAYLIGHT
BEGIN:STANDARD
TZOFFSETFROM:+0300
TZOFFSETTO:+0200
TZNAME:EET
DTSTART:20231029T010000
END:STANDARD
END:VTIMEZONE
BEGIN:VEVENT
DTSTART;VALUE=DATE:20231127
DTEND;VALUE=DATE:20231202
DTSTAMP:20260423T082149
CREATED:20231102T202238Z
LAST-MODIFIED:20231102T202238Z
UID:10505-1701043200-1701475199@www.gin.ntt.net
SUMMARY:RIPE 87
DESCRIPTION:RIPE is an event that showcases: \n – Participation in discussions about the policies and procedures used by the RIPE NCC to allocate Internet number resources\n– Group sessions to discuss current technical and policy issues\n– A chance to share experiences\, latest developments and best common practices\n– Develop their network of peers in the Internet community \nRIPE 87 will be held from December 27 – December 1\, 2023 in Rome\, Italy.\nClick here for more information.
URL:https://www.gin.ntt.net/event/ripe-87/
LOCATION:Rome\, Italy\, Rome\, Italy
END:VEVENT
END:VCALENDAR