            BEGIN:VCALENDAR
VERSION:2.0
PRODID:-//NTT-GIN - ECPv6.11.0.1//NONSGML v1.0//EN
CALSCALE:GREGORIAN
METHOD:PUBLISH
X-ORIGINAL-URL:https://www.gin.ntt.net
X-WR-CALDESC:Events for NTT-GIN
REFRESH-INTERVAL;VALUE=DURATION:PT1H
X-Robots-Tag:noindex
X-PUBLISHED-TTL:PT1H
BEGIN:VTIMEZONE
TZID:America/Denver
BEGIN:DAYLIGHT
TZOFFSETFROM:-0700
TZOFFSETTO:-0600
TZNAME:MDT
DTSTART:20230312T090000
END:DAYLIGHT
BEGIN:STANDARD
TZOFFSETFROM:-0600
TZOFFSETTO:-0700
TZNAME:MST
DTSTART:20231105T080000
END:STANDARD
END:VTIMEZONE
BEGIN:VEVENT
DTSTART;VALUE=DATE:20230514
DTEND;VALUE=DATE:20230518
DTSTAMP:20260423T200151
CREATED:20230118T192827Z
LAST-MODIFIED:20230118T192827Z
UID:9962-1684022400-1684367999@www.gin.ntt.net
SUMMARY:ITW 2023
DESCRIPTION:International Telecoms Week (ITW) is the world’s largest gathering from across the telecoms and ICT Infrastructure ecosystem and is the must-attend event for anyone who is pioneering the future of communication. This is the only event in the world where you can meet with the international connectivity market all in one place. Click here for more information.
URL:https://www.gin.ntt.net/event/itw-2023/
LOCATION:Gaylord National Resort & Convention Center\, 201 Waterfront St\, Oxon Hill\, MD\, 20745\, United States
END:VEVENT
END:VCALENDAR