            BEGIN:VCALENDAR
VERSION:2.0
PRODID:-//NTT-GIN - ECPv6.11.0.1//NONSGML v1.0//EN
CALSCALE:GREGORIAN
METHOD:PUBLISH
X-ORIGINAL-URL:https://www.gin.ntt.net
X-WR-CALDESC:Events for NTT-GIN
REFRESH-INTERVAL;VALUE=DURATION:PT1H
X-Robots-Tag:noindex
X-PUBLISHED-TTL:PT1H
BEGIN:VTIMEZONE
TZID:America/Denver
BEGIN:DAYLIGHT
TZOFFSETFROM:-0700
TZOFFSETTO:-0600
TZNAME:MDT
DTSTART:20230312T090000
END:DAYLIGHT
BEGIN:STANDARD
TZOFFSETFROM:-0600
TZOFFSETTO:-0700
TZNAME:MST
DTSTART:20231105T080000
END:STANDARD
END:VTIMEZONE
BEGIN:VEVENT
DTSTART;VALUE=DATE:20230314
DTEND;VALUE=DATE:20230316
DTSTAMP:20260423T225635
CREATED:20230118T191538Z
LAST-MODIFIED:20230118T191538Z
UID:9954-1678752000-1678924799@www.gin.ntt.net
SUMMARY:NetNod Meeting 2023
DESCRIPTION:Netnod will take place on 14th – 15th of March at Courtyard Stockholm Kungsholmen Hotel in Stockholm\, Sweden. For more information\, click here.
URL:https://www.gin.ntt.net/event/netnod-meeting-2023/
LOCATION:Courtyard Stockholm Kungsholmen Hotel\, Rålambshovsleden 50\, Stockholm\, 112 19\, Sweden
END:VEVENT
BEGIN:VEVENT
DTSTART;VALUE=DATE:20230314
DTEND;VALUE=DATE:20230316
DTSTAMP:20260423T225635
CREATED:20230118T192152Z
LAST-MODIFIED:20230118T192152Z
UID:9958-1678752000-1678924799@www.gin.ntt.net
SUMMARY:Capacity LATAM 2023
DESCRIPTION:NTT and its Global IP Network division are Sponsors of Capacity LATAM 2023. Please visit our stand in the exhibition area or contact us to schedule a meeting\, either by email at gin@ntt.net or by using the online event system.
URL:https://www.gin.ntt.net/event/capacity-latam-2023/
LOCATION:Grand Hyatt São Paulo\, Avenida das Nacoes Unidas 13.301\, São Paulo\, 04578-000\, Brazil
END:VEVENT
END:VCALENDAR