            BEGIN:VCALENDAR
VERSION:2.0
PRODID:-//NTT-GIN - ECPv6.11.0.1//NONSGML v1.0//EN
CALSCALE:GREGORIAN
METHOD:PUBLISH
X-WR-CALNAME:NTT-GIN
X-ORIGINAL-URL:https://www.gin.ntt.net
X-WR-CALDESC:Events for NTT-GIN
REFRESH-INTERVAL;VALUE=DURATION:PT1H
X-Robots-Tag:noindex
X-PUBLISHED-TTL:PT1H
BEGIN:VTIMEZONE
TZID:America/Denver
BEGIN:DAYLIGHT
TZOFFSETFROM:-0700
TZOFFSETTO:-0600
TZNAME:MDT
DTSTART:20230312T090000
END:DAYLIGHT
BEGIN:STANDARD
TZOFFSETFROM:-0600
TZOFFSETTO:-0700
TZNAME:MST
DTSTART:20231105T080000
END:STANDARD
END:VTIMEZONE
BEGIN:VEVENT
DTSTART;VALUE=DATE:20230307
DTEND;VALUE=DATE:20230310
DTSTAMP:20260423T225354
CREATED:20230118T190328Z
LAST-MODIFIED:20230118T190328Z
UID:9950-1678147200-1678406399@www.gin.ntt.net
SUMMARY:Capacity Middle East 2023
DESCRIPTION:NTT and its Global IP Network division are Sponsors of Capacity Middle East 2023. Please visit our stand in the exhibition area or contact us to schedule a meeting\, either by email at gin@ntt.net or by using the online event system.
URL:https://www.gin.ntt.net/event/capacity-middle-east-2023/
LOCATION:Grand Hyatt Dubai\, Riyadh Street\, Sheikh Rashid Road\, Dubai\, United Arab Emirates
END:VEVENT
END:VCALENDAR