            BEGIN:VCALENDAR
VERSION:2.0
PRODID:-//NTT-GIN - ECPv6.11.0.1//NONSGML v1.0//EN
CALSCALE:GREGORIAN
METHOD:PUBLISH
X-ORIGINAL-URL:https://www.gin.ntt.net
X-WR-CALDESC:Events for NTT-GIN
REFRESH-INTERVAL;VALUE=DURATION:PT1H
X-Robots-Tag:noindex
X-PUBLISHED-TTL:PT1H
BEGIN:VTIMEZONE
TZID:America/Denver
BEGIN:DAYLIGHT
TZOFFSETFROM:-0700
TZOFFSETTO:-0600
TZNAME:MDT
DTSTART:20230312T090000
END:DAYLIGHT
BEGIN:STANDARD
TZOFFSETFROM:-0600
TZOFFSETTO:-0700
TZNAME:MST
DTSTART:20231105T080000
END:STANDARD
END:VTIMEZONE
BEGIN:VEVENT
DTSTART;VALUE=DATE:20230227
DTEND;VALUE=DATE:20230301
DTSTAMP:20260423T225636
CREATED:20230118T185232Z
LAST-MODIFIED:20230118T185232Z
UID:9948-1677456000-1677628799@www.gin.ntt.net
SUMMARY:LINX 118
DESCRIPTION:LINX 118 will be held on February 27\, 2023 and February 28\, 2023 at Park Plaza\, Victoria\, London. For more information please click here.
URL:https://www.gin.ntt.net/event/linx-118/
LOCATION:Park Plaza Victoria London\, 239 Vauxhall Bridge Rd\, Pimlico\, Lodon\, SW1V 1EQ\, United Kingdom
END:VEVENT
END:VCALENDAR