            BEGIN:VCALENDAR
VERSION:2.0
PRODID:-//NTT-GIN - ECPv6.11.0.1//NONSGML v1.0//EN
CALSCALE:GREGORIAN
METHOD:PUBLISH
X-ORIGINAL-URL:https://www.gin.ntt.net
X-WR-CALDESC:Events for NTT-GIN
REFRESH-INTERVAL;VALUE=DURATION:PT1H
X-Robots-Tag:noindex
X-PUBLISHED-TTL:PT1H
BEGIN:VTIMEZONE
TZID:Europe/Amsterdam
BEGIN:DAYLIGHT
TZOFFSETFROM:+0100
TZOFFSETTO:+0200
TZNAME:CEST
DTSTART:20220327T010000
END:DAYLIGHT
BEGIN:STANDARD
TZOFFSETFROM:+0200
TZOFFSETTO:+0100
TZNAME:CET
DTSTART:20221030T010000
END:STANDARD
END:VTIMEZONE
BEGIN:VEVENT
DTSTART;VALUE=DATE:20220601
DTEND;VALUE=DATE:20220603
DTSTAMP:20260424T141744
CREATED:20210514T210922Z
LAST-MODIFIED:20220329T162136Z
UID:9053-1654041600-1654214399@www.gin.ntt.net
SUMMARY:More-IP
DESCRIPTION:More-IP will be held in Amsterdam\, NL at the Pakhuis de Zwijger. For more information please click here.
URL:https://www.gin.ntt.net/event/more-ip/
LOCATION:Amsterdam\, Amsterdam\, Netherlands
END:VEVENT
END:VCALENDAR