            BEGIN:VCALENDAR
VERSION:2.0
PRODID:-//NTT-GIN - ECPv6.11.0.1//NONSGML v1.0//EN
CALSCALE:GREGORIAN
METHOD:PUBLISH
X-WR-CALNAME:NTT-GIN
X-ORIGINAL-URL:https://www.gin.ntt.net
X-WR-CALDESC:Events for NTT-GIN
REFRESH-INTERVAL;VALUE=DURATION:PT1H
X-Robots-Tag:noindex
X-PUBLISHED-TTL:PT1H
BEGIN:VTIMEZONE
TZID:America/Denver
BEGIN:DAYLIGHT
TZOFFSETFROM:-0700
TZOFFSETTO:-0600
TZNAME:MDT
DTSTART:20220313T090000
END:DAYLIGHT
BEGIN:STANDARD
TZOFFSETFROM:-0600
TZOFFSETTO:-0700
TZNAME:MST
DTSTART:20221106T080000
END:STANDARD
END:VTIMEZONE
BEGIN:VTIMEZONE
TZID:Europe/Paris
BEGIN:DAYLIGHT
TZOFFSETFROM:+0100
TZOFFSETTO:+0200
TZNAME:CEST
DTSTART:20220327T010000
END:DAYLIGHT
BEGIN:STANDARD
TZOFFSETFROM:+0200
TZOFFSETTO:+0100
TZNAME:CET
DTSTART:20221030T010000
END:STANDARD
END:VTIMEZONE
BEGIN:VEVENT
DTSTART;VALUE=DATE:20220406
DTEND;VALUE=DATE:20220408
DTSTAMP:20260424T154917
CREATED:20210617T234213Z
LAST-MODIFIED:20220302T155355Z
UID:9067-1649203200-1649375999@www.gin.ntt.net
SUMMARY:AusNOG
DESCRIPTION:AusNOG will be held in person at the Fulton Hotel in Sydney. For more information click here.
URL:https://www.gin.ntt.net/event/ausnog/
LOCATION:Fullerton Hotel\, 1 Martin Pl\, Sydney\, Sydney\, NSW 2000\, Australia
END:VEVENT
BEGIN:VEVENT
DTSTART;VALUE=DATE:20220406
DTEND;VALUE=DATE:20220408
DTSTAMP:20260424T154917
CREATED:20220309T173428Z
LAST-MODIFIED:20220309T173428Z
UID:9596-1649203200-1649375999@www.gin.ntt.net
SUMMARY:Netnod Meeting 2022
DESCRIPTION:Netnod will take place on 6th – 7th of April at Scandic Continental hotel in Stockholm\, Sweden. For more information\, click here.
URL:https://www.gin.ntt.net/event/netnod-meeting-2022/
LOCATION:Stockholm\, Sweden\, Stockholm\, Sweden
END:VEVENT
END:VCALENDAR