            BEGIN:VCALENDAR
VERSION:2.0
PRODID:-//NTT-GIN - ECPv6.11.0.1//NONSGML v1.0//EN
CALSCALE:GREGORIAN
METHOD:PUBLISH
X-ORIGINAL-URL:https://www.gin.ntt.net
X-WR-CALDESC:Events for NTT-GIN
REFRESH-INTERVAL;VALUE=DURATION:PT1H
X-Robots-Tag:noindex
X-PUBLISHED-TTL:PT1H
BEGIN:VTIMEZONE
TZID:America/Denver
BEGIN:DAYLIGHT
TZOFFSETFROM:-0700
TZOFFSETTO:-0600
TZNAME:MDT
DTSTART:20220313T090000
END:DAYLIGHT
BEGIN:STANDARD
TZOFFSETFROM:-0600
TZOFFSETTO:-0700
TZNAME:MST
DTSTART:20221106T080000
END:STANDARD
END:VTIMEZONE
BEGIN:VEVENT
DTSTART;VALUE=DATE:20220223
DTEND;VALUE=DATE:20220304
DTSTAMP:20260424T205555
CREATED:20220114T231006Z
LAST-MODIFIED:20220114T231108Z
UID:9507-1645574400-1646351999@www.gin.ntt.net
SUMMARY:APRICOT / APNIC 53
DESCRIPTION:Asia Pacific Regional Internet Conference on Operational Technologies (APRICOT) is an event for many of the world’s best Internet engineers\, operators\, researchers\, service providers\, users and policy communities from over 50 countries. At this event\, there is teaching\, presenting\, and networking. The 9-day summit consists of seminars\, workshops\, tutorials\, conference sessions\, birds-of-a-feather (BOFs)\, and other forums with the goal of spreading and sharing the knowledge required to operate the Internet within the Asia Pacific region. Click here for more information.
URL:https://www.gin.ntt.net/event/apricot-apnic-53/
END:VEVENT
END:VCALENDAR